BEGIN:VCALENDAR
VERSION:2.0
PRODID:-//Accent Cellars - ECPv6.15.16//NONSGML v1.0//EN
CALSCALE:GREGORIAN
METHOD:PUBLISH
X-ORIGINAL-URL:https://www.accentcellars.com
X-WR-CALDESC:Events for Accent Cellars
REFRESH-INTERVAL;VALUE=DURATION:PT1H
X-Robots-Tag:noindex
X-PUBLISHED-TTL:PT1H
BEGIN:VTIMEZONE
TZID:America/New_York
BEGIN:DAYLIGHT
TZOFFSETFROM:-0500
TZOFFSETTO:-0400
TZNAME:EDT
DTSTART:20250309T070000
END:DAYLIGHT
BEGIN:STANDARD
TZOFFSETFROM:-0400
TZOFFSETTO:-0500
TZNAME:EST
DTSTART:20251102T060000
END:STANDARD
BEGIN:DAYLIGHT
TZOFFSETFROM:-0500
TZOFFSETTO:-0400
TZNAME:EDT
DTSTART:20260308T070000
END:DAYLIGHT
BEGIN:STANDARD
TZOFFSETFROM:-0400
TZOFFSETTO:-0500
TZNAME:EST
DTSTART:20261101T060000
END:STANDARD
BEGIN:DAYLIGHT
TZOFFSETFROM:-0500
TZOFFSETTO:-0400
TZNAME:EDT
DTSTART:20270314T070000
END:DAYLIGHT
BEGIN:STANDARD
TZOFFSETFROM:-0400
TZOFFSETTO:-0500
TZNAME:EST
DTSTART:20271107T060000
END:STANDARD
END:VTIMEZONE
BEGIN:VEVENT
DTSTART;TZID=America/New_York:20260503T123000
DTEND;TZID=America/New_York:20260503T143000
DTSTAMP:20260424T095128
CREATED:20260416T145223Z
LAST-MODIFIED:20260416T145458Z
UID:10000138-1777811400-1777818600@www.accentcellars.com
SUMMARY:Wine Club Pickup Party
DESCRIPTION:Comedy Show				\n				\n				\n				\n									Saturday\, October 24th @ 7:30-9:30 								\n				\n				\n				\n									\n					\n						\n									Tickets\n					\n					\n				\n								\n				\n					\n				\n		\n					\n				\n				\n							\n			\n						\n		\n						\n				\n				\n				\n									Nothing pairs better with your favorite wine than a good laugh. That’s why we’re hosting live comedy here at Accent Cellars Saturday\, October 24th! Bring your friends\, grab a bottle\, and come ready for a seriously good time with some seriously funny comedians. Grab your tickets now while you can! 								\n				\n				\n				\n									\n					\n						\n									tickets\n					\n					\n				\n								\n				\n				\n				\n							\n			\n						\n		\n						\n				\n					\n				\n		\n					\n				\n				\n									The VenueAccent Cellars215 Auraria RoadDahlonega\,Georgia30533United States+ Google Map    Add to calendar Google CalendariCalendarOutlook 365Outlook Live« All Events
URL:https://www.accentcellars.com/event/wine-club-pickup-party/
END:VEVENT
END:VCALENDAR