BEGIN:VCALENDAR
VERSION:2.0
PRODID:-//Accent Cellars - ECPv6.15.16//NONSGML v1.0//EN
CALSCALE:GREGORIAN
METHOD:PUBLISH
X-ORIGINAL-URL:https://www.accentcellars.com
X-WR-CALDESC:Events for Accent Cellars
REFRESH-INTERVAL;VALUE=DURATION:PT1H
X-Robots-Tag:noindex
X-PUBLISHED-TTL:PT1H
BEGIN:VTIMEZONE
TZID:America/New_York
BEGIN:DAYLIGHT
TZOFFSETFROM:-0500
TZOFFSETTO:-0400
TZNAME:EDT
DTSTART:20250309T070000
END:DAYLIGHT
BEGIN:STANDARD
TZOFFSETFROM:-0400
TZOFFSETTO:-0500
TZNAME:EST
DTSTART:20251102T060000
END:STANDARD
BEGIN:DAYLIGHT
TZOFFSETFROM:-0500
TZOFFSETTO:-0400
TZNAME:EDT
DTSTART:20260308T070000
END:DAYLIGHT
BEGIN:STANDARD
TZOFFSETFROM:-0400
TZOFFSETTO:-0500
TZNAME:EST
DTSTART:20261101T060000
END:STANDARD
BEGIN:DAYLIGHT
TZOFFSETFROM:-0500
TZOFFSETTO:-0400
TZNAME:EDT
DTSTART:20270314T070000
END:DAYLIGHT
BEGIN:STANDARD
TZOFFSETFROM:-0400
TZOFFSETTO:-0500
TZNAME:EST
DTSTART:20271107T060000
END:STANDARD
END:VTIMEZONE
BEGIN:VEVENT
DTSTART;TZID=America/New_York:20260502T123000
DTEND;TZID=America/New_York:20260502T170000
DTSTAMP:20260424T095248
CREATED:20260416T144915Z
LAST-MODIFIED:20260416T144929Z
UID:10000137-1777725000-1777741200@www.accentcellars.com
SUMMARY:Artpop Art Market
DESCRIPTION:Comedy Show				\n				\n				\n				\n									Saturday\, October 24th @ 7:30-9:30 								\n				\n				\n				\n									\n					\n						\n									Tickets\n					\n					\n				\n								\n				\n					\n				\n		\n					\n				\n				\n							\n			\n						\n		\n						\n				\n				\n				\n									Nothing pairs better with your favorite wine than a good laugh. That’s why we’re hosting live comedy here at Accent Cellars Saturday\, October 24th! Bring your friends\, grab a bottle\, and come ready for a seriously good time with some seriously funny comedians. Grab your tickets now while you can! 								\n				\n				\n				\n									\n					\n						\n									tickets\n					\n					\n				\n								\n				\n				\n				\n							\n			\n						\n		\n						\n				\n					\n				\n		\n					\n				\n				\n									The VenueAccent Cellars215 Auraria RoadDahlonega\,Georgia30533United States+ Google Map    Add to calendar Google CalendariCalendarOutlook 365Outlook Live« All Events
URL:https://www.accentcellars.com/event/artpop-art-market/
END:VEVENT
BEGIN:VEVENT
DTSTART;TZID=America/New_York:20260503T123000
DTEND;TZID=America/New_York:20260503T143000
DTSTAMP:20260424T095248
CREATED:20260416T145223Z
LAST-MODIFIED:20260416T145458Z
UID:10000138-1777811400-1777818600@www.accentcellars.com
SUMMARY:Wine Club Pickup Party
DESCRIPTION:Comedy Show				\n				\n				\n				\n									Saturday\, October 24th @ 7:30-9:30 								\n				\n				\n				\n									\n					\n						\n									Tickets\n					\n					\n				\n								\n				\n					\n				\n		\n					\n				\n				\n							\n			\n						\n		\n						\n				\n				\n				\n									Nothing pairs better with your favorite wine than a good laugh. That’s why we’re hosting live comedy here at Accent Cellars Saturday\, October 24th! Bring your friends\, grab a bottle\, and come ready for a seriously good time with some seriously funny comedians. Grab your tickets now while you can! 								\n				\n				\n				\n									\n					\n						\n									tickets\n					\n					\n				\n								\n				\n				\n				\n							\n			\n						\n		\n						\n				\n					\n				\n		\n					\n				\n				\n									The VenueAccent Cellars215 Auraria RoadDahlonega\,Georgia30533United States+ Google Map    Add to calendar Google CalendariCalendarOutlook 365Outlook Live« All Events
URL:https://www.accentcellars.com/event/wine-club-pickup-party/
END:VEVENT
BEGIN:VEVENT
DTSTART;TZID=America/New_York:20260531T123000
DTEND;TZID=America/New_York:20260531T160000
DTSTAMP:20260424T095248
CREATED:20260416T145731Z
LAST-MODIFIED:20260416T151515Z
UID:10000139-1780230600-1780243200@www.accentcellars.com
SUMMARY:Free Kids Craft with Katie
DESCRIPTION:Comedy Show				\n				\n				\n				\n									Saturday\, October 24th @ 7:30-9:30 								\n				\n				\n				\n									\n					\n						\n									Tickets\n					\n					\n				\n								\n				\n					\n				\n		\n					\n				\n				\n							\n			\n						\n		\n						\n				\n				\n				\n									Nothing pairs better with your favorite wine than a good laugh. That’s why we’re hosting live comedy here at Accent Cellars Saturday\, October 24th! Bring your friends\, grab a bottle\, and come ready for a seriously good time with some seriously funny comedians. Grab your tickets now while you can! 								\n				\n				\n				\n									\n					\n						\n									tickets\n					\n					\n				\n								\n				\n				\n				\n							\n			\n						\n		\n						\n				\n					\n				\n		\n					\n				\n				\n									The VenueAccent Cellars215 Auraria RoadDahlonega\,Georgia30533United States+ Google Map    Add to calendar Google CalendariCalendarOutlook 365Outlook Live« All Events
URL:https://www.accentcellars.com/event/free-kids-craft-with-katie-6/
END:VEVENT
BEGIN:VEVENT
DTSTART;TZID=America/New_York:20260531T123000
DTEND;TZID=America/New_York:20260531T160000
DTSTAMP:20260424T095248
CREATED:20260416T152820Z
LAST-MODIFIED:20260416T174658Z
UID:10000140-1780230600-1780243200@www.accentcellars.com
SUMMARY:Crush & Cultivate Farmers Market
DESCRIPTION:Comedy Show				\n				\n				\n				\n									Saturday\, October 24th @ 7:30-9:30 								\n				\n				\n				\n									\n					\n						\n									Tickets\n					\n					\n				\n								\n				\n					\n				\n		\n					\n				\n				\n							\n			\n						\n		\n						\n				\n				\n				\n									Nothing pairs better with your favorite wine than a good laugh. That’s why we’re hosting live comedy here at Accent Cellars Saturday\, October 24th! Bring your friends\, grab a bottle\, and come ready for a seriously good time with some seriously funny comedians. Grab your tickets now while you can! 								\n				\n				\n				\n									\n					\n						\n									tickets\n					\n					\n				\n								\n				\n				\n				\n							\n			\n						\n		\n						\n				\n					\n				\n		\n					\n				\n				\n									The VenueAccent Cellars215 Auraria RoadDahlonega\,Georgia30533United States+ Google Map    Add to calendar Google CalendariCalendarOutlook 365Outlook Live« All Events
URL:https://www.accentcellars.com/event/crush-cultivate-farmers-market/
END:VEVENT
BEGIN:VEVENT
DTSTART;TZID=America/New_York:20260606T193000
DTEND;TZID=America/New_York:20260606T213000
DTSTAMP:20260424T095248
CREATED:20260420T171815Z
LAST-MODIFIED:20260420T171941Z
UID:10000148-1780774200-1780781400@www.accentcellars.com
SUMMARY:Comedy Show
DESCRIPTION:Comedy Show				\n				\n				\n				\n									Saturday\, October 24th @ 7:30-9:30 								\n				\n				\n				\n									\n					\n						\n									Tickets\n					\n					\n				\n								\n				\n					\n				\n		\n					\n				\n				\n							\n			\n						\n		\n						\n				\n				\n				\n									Nothing pairs better with your favorite wine than a good laugh. That’s why we’re hosting live comedy here at Accent Cellars Saturday\, October 24th! Bring your friends\, grab a bottle\, and come ready for a seriously good time with some seriously funny comedians. Grab your tickets now while you can! 								\n				\n				\n				\n									\n					\n						\n									tickets\n					\n					\n				\n								\n				\n				\n				\n							\n			\n						\n		\n						\n				\n					\n				\n		\n					\n				\n				\n									The VenueAccent Cellars215 Auraria RoadDahlonega\,Georgia30533United States+ Google Map    Add to calendar Google CalendariCalendarOutlook 365Outlook Live« All Events
URL:https://www.accentcellars.com/event/comedy-show-3/
END:VEVENT
BEGIN:VEVENT
DTSTART;TZID=America/New_York:20260628T123000
DTEND;TZID=America/New_York:20260628T160000
DTSTAMP:20260424T095248
CREATED:20260416T173142Z
LAST-MODIFIED:20260416T174752Z
UID:10000141-1782649800-1782662400@www.accentcellars.com
SUMMARY:Crush & Cultivate Famers Market
DESCRIPTION:Comedy Show				\n				\n				\n				\n									Saturday\, October 24th @ 7:30-9:30 								\n				\n				\n				\n									\n					\n						\n									Tickets\n					\n					\n				\n								\n				\n					\n				\n		\n					\n				\n				\n							\n			\n						\n		\n						\n				\n				\n				\n									Nothing pairs better with your favorite wine than a good laugh. That’s why we’re hosting live comedy here at Accent Cellars Saturday\, October 24th! Bring your friends\, grab a bottle\, and come ready for a seriously good time with some seriously funny comedians. Grab your tickets now while you can! 								\n				\n				\n				\n									\n					\n						\n									tickets\n					\n					\n				\n								\n				\n				\n				\n							\n			\n						\n		\n						\n				\n					\n				\n		\n					\n				\n				\n									The VenueAccent Cellars215 Auraria RoadDahlonega\,Georgia30533United States+ Google Map    Add to calendar Google CalendariCalendarOutlook 365Outlook Live« All Events
URL:https://www.accentcellars.com/event/crush-cultivate-famers-market/
END:VEVENT
BEGIN:VEVENT
DTSTART;TZID=America/New_York:20260726T123000
DTEND;TZID=America/New_York:20260726T160000
DTSTAMP:20260424T095248
CREATED:20260416T174311Z
LAST-MODIFIED:20260416T174840Z
UID:10000142-1785069000-1785081600@www.accentcellars.com
SUMMARY:Crush & Cultivate Farmers Market
DESCRIPTION:Comedy Show				\n				\n				\n				\n									Saturday\, October 24th @ 7:30-9:30 								\n				\n				\n				\n									\n					\n						\n									Tickets\n					\n					\n				\n								\n				\n					\n				\n		\n					\n				\n				\n							\n			\n						\n		\n						\n				\n				\n				\n									Nothing pairs better with your favorite wine than a good laugh. That’s why we’re hosting live comedy here at Accent Cellars Saturday\, October 24th! Bring your friends\, grab a bottle\, and come ready for a seriously good time with some seriously funny comedians. Grab your tickets now while you can! 								\n				\n				\n				\n									\n					\n						\n									tickets\n					\n					\n				\n								\n				\n				\n				\n							\n			\n						\n		\n						\n				\n					\n				\n		\n					\n				\n				\n									The VenueAccent Cellars215 Auraria RoadDahlonega\,Georgia30533United States+ Google Map    Add to calendar Google CalendariCalendarOutlook 365Outlook Live« All Events
URL:https://www.accentcellars.com/event/crush-cultivate-farmers-market-2/
END:VEVENT
BEGIN:VEVENT
DTSTART;TZID=America/New_York:20260830T123000
DTEND;TZID=America/New_York:20260830T160000
DTSTAMP:20260424T095248
CREATED:20260416T180013Z
LAST-MODIFIED:20260416T180050Z
UID:10000143-1788093000-1788105600@www.accentcellars.com
SUMMARY:Crush & Cultivate Farmers Market
DESCRIPTION:Comedy Show				\n				\n				\n				\n									Saturday\, October 24th @ 7:30-9:30 								\n				\n				\n				\n									\n					\n						\n									Tickets\n					\n					\n				\n								\n				\n					\n				\n		\n					\n				\n				\n							\n			\n						\n		\n						\n				\n				\n				\n									Nothing pairs better with your favorite wine than a good laugh. That’s why we’re hosting live comedy here at Accent Cellars Saturday\, October 24th! Bring your friends\, grab a bottle\, and come ready for a seriously good time with some seriously funny comedians. Grab your tickets now while you can! 								\n				\n				\n				\n									\n					\n						\n									tickets\n					\n					\n				\n								\n				\n				\n				\n							\n			\n						\n		\n						\n				\n					\n				\n		\n					\n				\n				\n									The VenueAccent Cellars215 Auraria RoadDahlonega\,Georgia30533United States+ Google Map    Add to calendar Google CalendariCalendarOutlook 365Outlook Live« All Events
URL:https://www.accentcellars.com/event/crush-cultivate-farmers-market-3/
END:VEVENT
BEGIN:VEVENT
DTSTART;TZID=America/New_York:20260906T123000
DTEND;TZID=America/New_York:20260906T160000
DTSTAMP:20260424T095248
CREATED:20260416T181900Z
LAST-MODIFIED:20260416T182018Z
UID:10000146-1788697800-1788710400@www.accentcellars.com
SUMMARY:Free Kids Craft with Katie
DESCRIPTION:Comedy Show				\n				\n				\n				\n									Saturday\, October 24th @ 7:30-9:30 								\n				\n				\n				\n									\n					\n						\n									Tickets\n					\n					\n				\n								\n				\n					\n				\n		\n					\n				\n				\n							\n			\n						\n		\n						\n				\n				\n				\n									Nothing pairs better with your favorite wine than a good laugh. That’s why we’re hosting live comedy here at Accent Cellars Saturday\, October 24th! Bring your friends\, grab a bottle\, and come ready for a seriously good time with some seriously funny comedians. Grab your tickets now while you can! 								\n				\n				\n				\n									\n					\n						\n									tickets\n					\n					\n				\n								\n				\n				\n				\n							\n			\n						\n		\n						\n				\n					\n				\n		\n					\n				\n				\n									The VenueAccent Cellars215 Auraria RoadDahlonega\,Georgia30533United States+ Google Map    Add to calendar Google CalendariCalendarOutlook 365Outlook Live« All Events
URL:https://www.accentcellars.com/event/free-kids-craft-with-katie-7/
END:VEVENT
BEGIN:VEVENT
DTSTART;TZID=America/New_York:20260927T123000
DTEND;TZID=America/New_York:20260927T160000
DTSTAMP:20260424T095248
CREATED:20260416T180255Z
LAST-MODIFIED:20260416T180612Z
UID:10000144-1790512200-1790524800@www.accentcellars.com
SUMMARY:Crush & Cultivate Farmers Market
DESCRIPTION:Comedy Show				\n				\n				\n				\n									Saturday\, October 24th @ 7:30-9:30 								\n				\n				\n				\n									\n					\n						\n									Tickets\n					\n					\n				\n								\n				\n					\n				\n		\n					\n				\n				\n							\n			\n						\n		\n						\n				\n				\n				\n									Nothing pairs better with your favorite wine than a good laugh. That’s why we’re hosting live comedy here at Accent Cellars Saturday\, October 24th! Bring your friends\, grab a bottle\, and come ready for a seriously good time with some seriously funny comedians. Grab your tickets now while you can! 								\n				\n				\n				\n									\n					\n						\n									tickets\n					\n					\n				\n								\n				\n				\n				\n							\n			\n						\n		\n						\n				\n					\n				\n		\n					\n				\n				\n									The VenueAccent Cellars215 Auraria RoadDahlonega\,Georgia30533United States+ Google Map    Add to calendar Google CalendariCalendarOutlook 365Outlook Live« All Events
URL:https://www.accentcellars.com/event/crush-cultivate-farmers-market-4/
END:VEVENT
BEGIN:VEVENT
DTSTART;TZID=America/New_York:20261004T123000
DTEND;TZID=America/New_York:20261004T160000
DTSTAMP:20260424T095248
CREATED:20260416T182239Z
LAST-MODIFIED:20260416T182408Z
UID:10000147-1791117000-1791129600@www.accentcellars.com
SUMMARY:Free Kids Craft with Katie
DESCRIPTION:Comedy Show				\n				\n				\n				\n									Saturday\, October 24th @ 7:30-9:30 								\n				\n				\n				\n									\n					\n						\n									Tickets\n					\n					\n				\n								\n				\n					\n				\n		\n					\n				\n				\n							\n			\n						\n		\n						\n				\n				\n				\n									Nothing pairs better with your favorite wine than a good laugh. That’s why we’re hosting live comedy here at Accent Cellars Saturday\, October 24th! Bring your friends\, grab a bottle\, and come ready for a seriously good time with some seriously funny comedians. Grab your tickets now while you can! 								\n				\n				\n				\n									\n					\n						\n									tickets\n					\n					\n				\n								\n				\n				\n				\n							\n			\n						\n		\n						\n				\n					\n				\n		\n					\n				\n				\n									The VenueAccent Cellars215 Auraria RoadDahlonega\,Georgia30533United States+ Google Map    Add to calendar Google CalendariCalendarOutlook 365Outlook Live« All Events
URL:https://www.accentcellars.com/event/free-kids-craft-with-katie-8/
END:VEVENT
BEGIN:VEVENT
DTSTART;TZID=America/New_York:20261024T193000
DTEND;TZID=America/New_York:20261024T213000
DTSTAMP:20260424T095248
CREATED:20260420T172246Z
LAST-MODIFIED:20260420T172423Z
UID:10000149-1792870200-1792877400@www.accentcellars.com
SUMMARY:Comedy Show
DESCRIPTION:Comedy Show				\n				\n				\n				\n									Saturday\, October 24th @ 7:30-9:30 								\n				\n				\n				\n									\n					\n						\n									Tickets\n					\n					\n				\n								\n				\n					\n				\n		\n					\n				\n				\n							\n			\n						\n		\n						\n				\n				\n				\n									Nothing pairs better with your favorite wine than a good laugh. That’s why we’re hosting live comedy here at Accent Cellars Saturday\, October 24th! Bring your friends\, grab a bottle\, and come ready for a seriously good time with some seriously funny comedians. Grab your tickets now while you can! 								\n				\n				\n				\n									\n					\n						\n									tickets\n					\n					\n				\n								\n				\n				\n				\n							\n			\n						\n		\n						\n				\n					\n				\n		\n					\n				\n				\n									The VenueAccent Cellars215 Auraria RoadDahlonega\,Georgia30533United States+ Google Map    Add to calendar Google CalendariCalendarOutlook 365Outlook Live« All Events
URL:https://www.accentcellars.com/event/comedy-show-4/
END:VEVENT
BEGIN:VEVENT
DTSTART;TZID=America/New_York:20261025T123000
DTEND;TZID=America/New_York:20261025T160000
DTSTAMP:20260424T095248
CREATED:20260416T180820Z
LAST-MODIFIED:20260416T181135Z
UID:10000145-1792931400-1792944000@www.accentcellars.com
SUMMARY:Crush & Cultivate Farmers Market
DESCRIPTION:Comedy Show				\n				\n				\n				\n									Saturday\, October 24th @ 7:30-9:30 								\n				\n				\n				\n									\n					\n						\n									Tickets\n					\n					\n				\n								\n				\n					\n				\n		\n					\n				\n				\n							\n			\n						\n		\n						\n				\n				\n				\n									Nothing pairs better with your favorite wine than a good laugh. That’s why we’re hosting live comedy here at Accent Cellars Saturday\, October 24th! Bring your friends\, grab a bottle\, and come ready for a seriously good time with some seriously funny comedians. Grab your tickets now while you can! 								\n				\n				\n				\n									\n					\n						\n									tickets\n					\n					\n				\n								\n				\n				\n				\n							\n			\n						\n		\n						\n				\n					\n				\n		\n					\n				\n				\n									The VenueAccent Cellars215 Auraria RoadDahlonega\,Georgia30533United States+ Google Map    Add to calendar Google CalendariCalendarOutlook 365Outlook Live« All Events
URL:https://www.accentcellars.com/event/crush-cultivate-farmers-market-5/
END:VEVENT
END:VCALENDAR