BEGIN:VCALENDAR
VERSION:2.0
PRODID:-//Accent Cellars - ECPv6.15.16//NONSGML v1.0//EN
CALSCALE:GREGORIAN
METHOD:PUBLISH
X-WR-CALNAME:Accent Cellars
X-ORIGINAL-URL:https://www.accentcellars.com
X-WR-CALDESC:Events for Accent Cellars
REFRESH-INTERVAL;VALUE=DURATION:PT1H
X-Robots-Tag:noindex
X-PUBLISHED-TTL:PT1H
BEGIN:VTIMEZONE
TZID:America/New_York
BEGIN:DAYLIGHT
TZOFFSETFROM:-0500
TZOFFSETTO:-0400
TZNAME:EDT
DTSTART:20240310T070000
END:DAYLIGHT
BEGIN:STANDARD
TZOFFSETFROM:-0400
TZOFFSETTO:-0500
TZNAME:EST
DTSTART:20241103T060000
END:STANDARD
BEGIN:DAYLIGHT
TZOFFSETFROM:-0500
TZOFFSETTO:-0400
TZNAME:EDT
DTSTART:20250309T070000
END:DAYLIGHT
BEGIN:STANDARD
TZOFFSETFROM:-0400
TZOFFSETTO:-0500
TZNAME:EST
DTSTART:20251102T060000
END:STANDARD
BEGIN:DAYLIGHT
TZOFFSETFROM:-0500
TZOFFSETTO:-0400
TZNAME:EDT
DTSTART:20260308T070000
END:DAYLIGHT
BEGIN:STANDARD
TZOFFSETFROM:-0400
TZOFFSETTO:-0500
TZNAME:EST
DTSTART:20261101T060000
END:STANDARD
END:VTIMEZONE
BEGIN:VEVENT
DTSTART;TZID=America/New_York:20250112T123000
DTEND;TZID=America/New_York:20250112T143000
DTSTAMP:20260424T092353
CREATED:20250103T210516Z
LAST-MODIFIED:20250105T213657Z
UID:10000025-1736685000-1736692200@www.accentcellars.com
SUMMARY:Wine Club Pick-Up
DESCRIPTION:Cork and Harvest Market				\n				\n				\n				\n									Sunday\, June 29th @ 12:30-4:00pm  								\n				\n				\n				\n									\n					\n						\n									Free event\n					\n					\n				\n								\n				\n					\n				\n		\n					\n				\n				\n							\n			\n						\n		\n						\n				\n				\n				\n									Join us for our monthly Cork and Harvest farmers market on Sunday\, June 29th from 12:30 to 4 PM! This vibrant community gathering brings together local farmers and artisans right here at the winery\, creating the perfect blend of fresh\, local products and exceptional wine. Come discover the best of our local community while sipping wine and soaking up the atmosphere at this delightful monthly tradition! And for any vendors interested in attending this market\, get in contact with us by filling out this Google form: https://forms.gle/nskFmKfWywN4pwgc8 								\n				\n				\n				\n									\n					\n						\n									Free Event\n					\n					\n				\n								\n				\n				\n				\n							\n			\n						\n		\n						\n				\n					\n				\n		\n					\n				\n				\n									The VenueAccent Cellars215 Auraria RoadDahlonega\,Georgia30533United States+ Google Map    Add to calendar Google CalendariCalendarOutlook 365Outlook Live« All Events
URL:https://www.accentcellars.com/event/wine-club-pick-up/
END:VEVENT
END:VCALENDAR