BEGIN:VCALENDAR
VERSION:2.0
PRODID:-//Accent Cellars - ECPv6.15.16//NONSGML v1.0//EN
CALSCALE:GREGORIAN
METHOD:PUBLISH
X-WR-CALNAME:Accent Cellars
X-ORIGINAL-URL:https://www.accentcellars.com
X-WR-CALDESC:Events for Accent Cellars
REFRESH-INTERVAL;VALUE=DURATION:PT1H
X-Robots-Tag:noindex
X-PUBLISHED-TTL:PT1H
BEGIN:VTIMEZONE
TZID:America/New_York
BEGIN:DAYLIGHT
TZOFFSETFROM:-0500
TZOFFSETTO:-0400
TZNAME:EDT
DTSTART:20240310T070000
END:DAYLIGHT
BEGIN:STANDARD
TZOFFSETFROM:-0400
TZOFFSETTO:-0500
TZNAME:EST
DTSTART:20241103T060000
END:STANDARD
BEGIN:DAYLIGHT
TZOFFSETFROM:-0500
TZOFFSETTO:-0400
TZNAME:EDT
DTSTART:20250309T070000
END:DAYLIGHT
BEGIN:STANDARD
TZOFFSETFROM:-0400
TZOFFSETTO:-0500
TZNAME:EST
DTSTART:20251102T060000
END:STANDARD
BEGIN:DAYLIGHT
TZOFFSETFROM:-0500
TZOFFSETTO:-0400
TZNAME:EDT
DTSTART:20260308T070000
END:DAYLIGHT
BEGIN:STANDARD
TZOFFSETFROM:-0400
TZOFFSETTO:-0500
TZNAME:EST
DTSTART:20261101T060000
END:STANDARD
END:VTIMEZONE
BEGIN:VEVENT
DTSTART;TZID=America/New_York:20250307T190000
DTEND;TZID=America/New_York:20250307T210000
DTSTAMP:20260422T064916
CREATED:20250213T151809Z
LAST-MODIFIED:20250213T152605Z
UID:10000032-1741374000-1741381200@www.accentcellars.com
SUMMARY:Mardi Gras Potluck at Accent Cellars
DESCRIPTION:Comedy Show				\n				\n				\n				\n									Saturday\, October 24th @ 7:30-9:30 								\n				\n				\n				\n									\n					\n						\n									Tickets\n					\n					\n				\n								\n				\n					\n				\n		\n					\n				\n				\n							\n			\n						\n		\n						\n				\n				\n				\n									Nothing pairs better with your favorite wine than a good laugh. That’s why we’re hosting live comedy here at Accent Cellars Saturday\, October 24th! Bring your friends\, grab a bottle\, and come ready for a seriously good time with some seriously funny comedians. Grab your tickets now while you can! 								\n				\n				\n				\n									\n					\n						\n									tickets\n					\n					\n				\n								\n				\n				\n				\n							\n			\n						\n		\n						\n				\n					\n				\n		\n					\n				\n				\n									The VenueAccent Cellars215 Auraria RoadDahlonega\,Georgia30533United States+ Google Map    Add to calendar Google CalendariCalendarOutlook 365Outlook Live« All Events
URL:https://www.accentcellars.com/event/mardi-gras-potluck-at-accent-cellars/
END:VEVENT
BEGIN:VEVENT
DTSTART;TZID=America/New_York:20250314T190000
DTEND;TZID=America/New_York:20250314T210000
DTSTAMP:20260422T064916
CREATED:20250221T015616Z
LAST-MODIFIED:20250221T023637Z
UID:10000037-1741978800-1741986000@www.accentcellars.com
SUMMARY:Charcuterie Workshop with Lyndsey
DESCRIPTION:Comedy Show				\n				\n				\n				\n									Saturday\, October 24th @ 7:30-9:30 								\n				\n				\n				\n									\n					\n						\n									Tickets\n					\n					\n				\n								\n				\n					\n				\n		\n					\n				\n				\n							\n			\n						\n		\n						\n				\n				\n				\n									Nothing pairs better with your favorite wine than a good laugh. That’s why we’re hosting live comedy here at Accent Cellars Saturday\, October 24th! Bring your friends\, grab a bottle\, and come ready for a seriously good time with some seriously funny comedians. Grab your tickets now while you can! 								\n				\n				\n				\n									\n					\n						\n									tickets\n					\n					\n				\n								\n				\n				\n				\n							\n			\n						\n		\n						\n				\n					\n				\n		\n					\n				\n				\n									The VenueAccent Cellars215 Auraria RoadDahlonega\,Georgia30533United States+ Google Map    Add to calendar Google CalendariCalendarOutlook 365Outlook Live« All Events
URL:https://www.accentcellars.com/event/charcuterie-workshop-with-lyndsey/
END:VEVENT
BEGIN:VEVENT
DTSTART;TZID=America/New_York:20250316T123000
DTEND;TZID=America/New_York:20250316T160000
DTSTAMP:20260422T064916
CREATED:20250221T135558Z
LAST-MODIFIED:20250228T144316Z
UID:10000033-1742128200-1742140800@www.accentcellars.com
SUMMARY:St. Patrick's Day at Accent Cellars
DESCRIPTION:Comedy Show				\n				\n				\n				\n									Saturday\, October 24th @ 7:30-9:30 								\n				\n				\n				\n									\n					\n						\n									Tickets\n					\n					\n				\n								\n				\n					\n				\n		\n					\n				\n				\n							\n			\n						\n		\n						\n				\n				\n				\n									Nothing pairs better with your favorite wine than a good laugh. That’s why we’re hosting live comedy here at Accent Cellars Saturday\, October 24th! Bring your friends\, grab a bottle\, and come ready for a seriously good time with some seriously funny comedians. Grab your tickets now while you can! 								\n				\n				\n				\n									\n					\n						\n									tickets\n					\n					\n				\n								\n				\n				\n				\n							\n			\n						\n		\n						\n				\n					\n				\n		\n					\n				\n				\n									The VenueAccent Cellars215 Auraria RoadDahlonega\,Georgia30533United States+ Google Map    Add to calendar Google CalendariCalendarOutlook 365Outlook Live« All Events
URL:https://www.accentcellars.com/event/st-patricks-day-at-accent-cellars/
END:VEVENT
BEGIN:VEVENT
DTSTART;TZID=America/New_York:20250323T143000
DTEND;TZID=America/New_York:20250323T163000
DTSTAMP:20260422T064916
CREATED:20250221T023047Z
LAST-MODIFIED:20250221T023732Z
UID:10000038-1742740200-1742747400@www.accentcellars.com
SUMMARY:Cellar Studies
DESCRIPTION:Comedy Show				\n				\n				\n				\n									Saturday\, October 24th @ 7:30-9:30 								\n				\n				\n				\n									\n					\n						\n									Tickets\n					\n					\n				\n								\n				\n					\n				\n		\n					\n				\n				\n							\n			\n						\n		\n						\n				\n				\n				\n									Nothing pairs better with your favorite wine than a good laugh. That’s why we’re hosting live comedy here at Accent Cellars Saturday\, October 24th! Bring your friends\, grab a bottle\, and come ready for a seriously good time with some seriously funny comedians. Grab your tickets now while you can! 								\n				\n				\n				\n									\n					\n						\n									tickets\n					\n					\n				\n								\n				\n				\n				\n							\n			\n						\n		\n						\n				\n					\n				\n		\n					\n				\n				\n									The VenueAccent Cellars215 Auraria RoadDahlonega\,Georgia30533United States+ Google Map    Add to calendar Google CalendariCalendarOutlook 365Outlook Live« All Events
URL:https://www.accentcellars.com/event/cellar-studies/
END:VEVENT
BEGIN:VEVENT
DTSTART;TZID=America/New_York:20250330T123000
DTEND;TZID=America/New_York:20250330T160000
DTSTAMP:20260422T064916
CREATED:20250224T162344Z
LAST-MODIFIED:20250224T162535Z
UID:10000039-1743337800-1743350400@www.accentcellars.com
SUMMARY:Free Kids Craft with Katie
DESCRIPTION:Comedy Show				\n				\n				\n				\n									Saturday\, October 24th @ 7:30-9:30 								\n				\n				\n				\n									\n					\n						\n									Tickets\n					\n					\n				\n								\n				\n					\n				\n		\n					\n				\n				\n							\n			\n						\n		\n						\n				\n				\n				\n									Nothing pairs better with your favorite wine than a good laugh. That’s why we’re hosting live comedy here at Accent Cellars Saturday\, October 24th! Bring your friends\, grab a bottle\, and come ready for a seriously good time with some seriously funny comedians. Grab your tickets now while you can! 								\n				\n				\n				\n									\n					\n						\n									tickets\n					\n					\n				\n								\n				\n				\n				\n							\n			\n						\n		\n						\n				\n					\n				\n		\n					\n				\n				\n									The VenueAccent Cellars215 Auraria RoadDahlonega\,Georgia30533United States+ Google Map    Add to calendar Google CalendariCalendarOutlook 365Outlook Live« All Events
URL:https://www.accentcellars.com/event/free-kids-craft-with-katie-2/
END:VEVENT
END:VCALENDAR