BEGIN:VCALENDAR
VERSION:2.0
PRODID:-//Accent Cellars - ECPv6.15.16//NONSGML v1.0//EN
CALSCALE:GREGORIAN
METHOD:PUBLISH
X-ORIGINAL-URL:https://www.accentcellars.com
X-WR-CALDESC:Events for Accent Cellars
REFRESH-INTERVAL;VALUE=DURATION:PT1H
X-Robots-Tag:noindex
X-PUBLISHED-TTL:PT1H
BEGIN:VTIMEZONE
TZID:America/New_York
BEGIN:DAYLIGHT
TZOFFSETFROM:-0500
TZOFFSETTO:-0400
TZNAME:EDT
DTSTART:20240310T070000
END:DAYLIGHT
BEGIN:STANDARD
TZOFFSETFROM:-0400
TZOFFSETTO:-0500
TZNAME:EST
DTSTART:20241103T060000
END:STANDARD
BEGIN:DAYLIGHT
TZOFFSETFROM:-0500
TZOFFSETTO:-0400
TZNAME:EDT
DTSTART:20250309T070000
END:DAYLIGHT
BEGIN:STANDARD
TZOFFSETFROM:-0400
TZOFFSETTO:-0500
TZNAME:EST
DTSTART:20251102T060000
END:STANDARD
BEGIN:DAYLIGHT
TZOFFSETFROM:-0500
TZOFFSETTO:-0400
TZNAME:EDT
DTSTART:20260308T070000
END:DAYLIGHT
BEGIN:STANDARD
TZOFFSETFROM:-0400
TZOFFSETTO:-0500
TZNAME:EST
DTSTART:20261101T060000
END:STANDARD
END:VTIMEZONE
BEGIN:VEVENT
DTSTART;VALUE=DATE:20250413
DTEND;VALUE=DATE:20250414
DTSTAMP:20260422T052223
CREATED:20250324T200344Z
LAST-MODIFIED:20250328T202003Z
UID:10000040-1744502400-1744588799@www.accentcellars.com
SUMMARY:8th Cellarbration!
DESCRIPTION:Comedy Show				\n				\n				\n				\n									Saturday\, October 24th @ 7:30-9:30 								\n				\n				\n				\n									\n					\n						\n									Tickets\n					\n					\n				\n								\n				\n					\n				\n		\n					\n				\n				\n							\n			\n						\n		\n						\n				\n				\n				\n									Nothing pairs better with your favorite wine than a good laugh. That’s why we’re hosting live comedy here at Accent Cellars Saturday\, October 24th! Bring your friends\, grab a bottle\, and come ready for a seriously good time with some seriously funny comedians. Grab your tickets now while you can! 								\n				\n				\n				\n									\n					\n						\n									tickets\n					\n					\n				\n								\n				\n				\n				\n							\n			\n						\n		\n						\n				\n					\n				\n		\n					\n				\n				\n									The VenueAccent Cellars215 Auraria RoadDahlonega\,Georgia30533United States+ Google Map    Add to calendar Google CalendariCalendarOutlook 365Outlook Live« All Events
URL:https://www.accentcellars.com/event/8th-cellarbration/
END:VEVENT
BEGIN:VEVENT
DTSTART;TZID=America/New_York:20250426T190000
DTEND;TZID=America/New_York:20250426T210000
DTSTAMP:20260422T052223
CREATED:20250327T163309Z
LAST-MODIFIED:20250410T150148Z
UID:10000041-1745694000-1745701200@www.accentcellars.com
SUMMARY:Uncorked Comedy
DESCRIPTION:Comedy Show				\n				\n				\n				\n									Saturday\, October 24th @ 7:30-9:30 								\n				\n				\n				\n									\n					\n						\n									Tickets\n					\n					\n				\n								\n				\n					\n				\n		\n					\n				\n				\n							\n			\n						\n		\n						\n				\n				\n				\n									Nothing pairs better with your favorite wine than a good laugh. That’s why we’re hosting live comedy here at Accent Cellars Saturday\, October 24th! Bring your friends\, grab a bottle\, and come ready for a seriously good time with some seriously funny comedians. Grab your tickets now while you can! 								\n				\n				\n				\n									\n					\n						\n									tickets\n					\n					\n				\n								\n				\n				\n				\n							\n			\n						\n		\n						\n				\n					\n				\n		\n					\n				\n				\n									The VenueAccent Cellars215 Auraria RoadDahlonega\,Georgia30533United States+ Google Map    Add to calendar Google CalendariCalendarOutlook 365Outlook Live« All Events
URL:https://www.accentcellars.com/event/uncorked-comedy/
END:VEVENT
BEGIN:VEVENT
DTSTART;VALUE=DATE:20250427
DTEND;VALUE=DATE:20250428
DTSTAMP:20260422T052223
CREATED:20250423T173446Z
LAST-MODIFIED:20250423T173648Z
UID:10000042-1745712000-1745798399@www.accentcellars.com
SUMMARY:Cork and Harvest Farmers Market
DESCRIPTION:Comedy Show				\n				\n				\n				\n									Saturday\, October 24th @ 7:30-9:30 								\n				\n				\n				\n									\n					\n						\n									Tickets\n					\n					\n				\n								\n				\n					\n				\n		\n					\n				\n				\n							\n			\n						\n		\n						\n				\n				\n				\n									Nothing pairs better with your favorite wine than a good laugh. That’s why we’re hosting live comedy here at Accent Cellars Saturday\, October 24th! Bring your friends\, grab a bottle\, and come ready for a seriously good time with some seriously funny comedians. Grab your tickets now while you can! 								\n				\n				\n				\n									\n					\n						\n									tickets\n					\n					\n				\n								\n				\n				\n				\n							\n			\n						\n		\n						\n				\n					\n				\n		\n					\n				\n				\n									The VenueAccent Cellars215 Auraria RoadDahlonega\,Georgia30533United States+ Google Map    Add to calendar Google CalendariCalendarOutlook 365Outlook Live« All Events
URL:https://www.accentcellars.com/event/cork-and-harvest-farmers-market/
END:VEVENT
END:VCALENDAR