BEGIN:VCALENDAR
VERSION:2.0
PRODID:-//Accent Cellars - ECPv6.15.16//NONSGML v1.0//EN
CALSCALE:GREGORIAN
METHOD:PUBLISH
X-ORIGINAL-URL:https://www.accentcellars.com
X-WR-CALDESC:Events for Accent Cellars
REFRESH-INTERVAL;VALUE=DURATION:PT1H
X-Robots-Tag:noindex
X-PUBLISHED-TTL:PT1H
BEGIN:VTIMEZONE
TZID:America/New_York
BEGIN:DAYLIGHT
TZOFFSETFROM:-0500
TZOFFSETTO:-0400
TZNAME:EDT
DTSTART:20240310T070000
END:DAYLIGHT
BEGIN:STANDARD
TZOFFSETFROM:-0400
TZOFFSETTO:-0500
TZNAME:EST
DTSTART:20241103T060000
END:STANDARD
BEGIN:DAYLIGHT
TZOFFSETFROM:-0500
TZOFFSETTO:-0400
TZNAME:EDT
DTSTART:20250309T070000
END:DAYLIGHT
BEGIN:STANDARD
TZOFFSETFROM:-0400
TZOFFSETTO:-0500
TZNAME:EST
DTSTART:20251102T060000
END:STANDARD
BEGIN:DAYLIGHT
TZOFFSETFROM:-0500
TZOFFSETTO:-0400
TZNAME:EDT
DTSTART:20260308T070000
END:DAYLIGHT
BEGIN:STANDARD
TZOFFSETFROM:-0400
TZOFFSETTO:-0500
TZNAME:EST
DTSTART:20261101T060000
END:STANDARD
END:VTIMEZONE
BEGIN:VEVENT
DTSTART;TZID=America/New_York:20250803T140000
DTEND;TZID=America/New_York:20250803T160000
DTSTAMP:20260424T082252
CREATED:20250731T125503Z
LAST-MODIFIED:20250731T125736Z
UID:10000113-1754229600-1754236800@www.accentcellars.com
SUMMARY:Cellar Studies
DESCRIPTION:Comedy Show				\n				\n				\n				\n									Saturday\, October 24th @ 7:30-9:30 								\n				\n				\n				\n									\n					\n						\n									Tickets\n					\n					\n				\n								\n				\n					\n				\n		\n					\n				\n				\n							\n			\n						\n		\n						\n				\n				\n				\n									Nothing pairs better with your favorite wine than a good laugh. That’s why we’re hosting live comedy here at Accent Cellars Saturday\, October 24th! Bring your friends\, grab a bottle\, and come ready for a seriously good time with some seriously funny comedians. Grab your tickets now while you can! 								\n				\n				\n				\n									\n					\n						\n									tickets\n					\n					\n				\n								\n				\n				\n				\n							\n			\n						\n		\n						\n				\n					\n				\n		\n					\n				\n				\n									The VenueAccent Cellars215 Auraria RoadDahlonega\,Georgia30533United States+ Google Map    Add to calendar Google CalendariCalendarOutlook 365Outlook Live« All Events
URL:https://www.accentcellars.com/event/cellar-studies-2/
END:VEVENT
BEGIN:VEVENT
DTSTART;TZID=America/New_York:20250821T180000
DTEND;TZID=America/New_York:20250821T200000
DTSTAMP:20260424T082252
CREATED:20250805T220949Z
LAST-MODIFIED:20250805T221204Z
UID:10000114-1755799200-1755806400@www.accentcellars.com
SUMMARY:Music Bingo
DESCRIPTION:Comedy Show				\n				\n				\n				\n									Saturday\, October 24th @ 7:30-9:30 								\n				\n				\n				\n									\n					\n						\n									Tickets\n					\n					\n				\n								\n				\n					\n				\n		\n					\n				\n				\n							\n			\n						\n		\n						\n				\n				\n				\n									Nothing pairs better with your favorite wine than a good laugh. That’s why we’re hosting live comedy here at Accent Cellars Saturday\, October 24th! Bring your friends\, grab a bottle\, and come ready for a seriously good time with some seriously funny comedians. Grab your tickets now while you can! 								\n				\n				\n				\n									\n					\n						\n									tickets\n					\n					\n				\n								\n				\n				\n				\n							\n			\n						\n		\n						\n				\n					\n				\n		\n					\n				\n				\n									The VenueAccent Cellars215 Auraria RoadDahlonega\,Georgia30533United States+ Google Map    Add to calendar Google CalendariCalendarOutlook 365Outlook Live« All Events
URL:https://www.accentcellars.com/event/music-bingo-2/
END:VEVENT
BEGIN:VEVENT
DTSTART;TZID=America/New_York:20250831T123000
DTEND;TZID=America/New_York:20250831T160000
DTSTAMP:20260424T082252
CREATED:20250805T221513Z
LAST-MODIFIED:20250805T221840Z
UID:10000115-1756643400-1756656000@www.accentcellars.com
SUMMARY:Cork and Harvest
DESCRIPTION:Comedy Show				\n				\n				\n				\n									Saturday\, October 24th @ 7:30-9:30 								\n				\n				\n				\n									\n					\n						\n									Tickets\n					\n					\n				\n								\n				\n					\n				\n		\n					\n				\n				\n							\n			\n						\n		\n						\n				\n				\n				\n									Nothing pairs better with your favorite wine than a good laugh. That’s why we’re hosting live comedy here at Accent Cellars Saturday\, October 24th! Bring your friends\, grab a bottle\, and come ready for a seriously good time with some seriously funny comedians. Grab your tickets now while you can! 								\n				\n				\n				\n									\n					\n						\n									tickets\n					\n					\n				\n								\n				\n				\n				\n							\n			\n						\n		\n						\n				\n					\n				\n		\n					\n				\n				\n									The VenueAccent Cellars215 Auraria RoadDahlonega\,Georgia30533United States+ Google Map    Add to calendar Google CalendariCalendarOutlook 365Outlook Live« All Events
URL:https://www.accentcellars.com/event/cork-and-harvest-3/
END:VEVENT
BEGIN:VEVENT
DTSTART;TZID=America/New_York:20250831T123000
DTEND;TZID=America/New_York:20250831T160000
DTSTAMP:20260424T082252
CREATED:20250805T222200Z
LAST-MODIFIED:20250805T222417Z
UID:10000116-1756643400-1756656000@www.accentcellars.com
SUMMARY:Kids Craft with Katie
DESCRIPTION:Comedy Show				\n				\n				\n				\n									Saturday\, October 24th @ 7:30-9:30 								\n				\n				\n				\n									\n					\n						\n									Tickets\n					\n					\n				\n								\n				\n					\n				\n		\n					\n				\n				\n							\n			\n						\n		\n						\n				\n				\n				\n									Nothing pairs better with your favorite wine than a good laugh. That’s why we’re hosting live comedy here at Accent Cellars Saturday\, October 24th! Bring your friends\, grab a bottle\, and come ready for a seriously good time with some seriously funny comedians. Grab your tickets now while you can! 								\n				\n				\n				\n									\n					\n						\n									tickets\n					\n					\n				\n								\n				\n				\n				\n							\n			\n						\n		\n						\n				\n					\n				\n		\n					\n				\n				\n									The VenueAccent Cellars215 Auraria RoadDahlonega\,Georgia30533United States+ Google Map    Add to calendar Google CalendariCalendarOutlook 365Outlook Live« All Events
URL:https://www.accentcellars.com/event/kids-craft-with-katie-3/
END:VEVENT
END:VCALENDAR